BEGIN:VCALENDAR
VERSION:2.0
PRODID:-//ChamberMaster//Event Calendar 2.0//EN
METHOD:PUBLISH
X-PUBLISHED-TTL:P3D
REFRESH-INTERVAL:P3D
CALSCALE:GREGORIAN
BEGIN:VEVENT
DTSTART:20221208T233000Z
DTEND:20221209T003000Z
X-MICROSOFT-CDO-ALLDAYEVENT:FALSE
SUMMARY:Wonder & Light: Holiday Concert
DESCRIPTION:Living by the Stream will perform a holiday concert\, Wonder & Light\, at the Safety Harbor Public Library on Thursday\, December 8\, 6:30 pm. Steve and Sarah Dowell\, the father-daughter folk duo of Living by the Stream\, incorporate a wide variety of music in their performances\, including jazz\, classical\, bluegrass\, Irish\, and other genres. They bridge the gap between genres for an enjoyable contrast of styles in an engaging and unique performance.
X-ALT-DESC;FMTTYPE=text/html:Living by the Stream will perform a holiday concert\, Wonder &amp\; Light\, at the Safety Harbor Public Library on Thursday\, December 8\, 6:30 pm. Steve and Sarah Dowell\, the father-daughter folk duo of Living by the Stream\, incorporate a wide variety of music in their performances\, including jazz\, classical\, bluegrass\, Irish\, and other genres. They bridge the gap between genres for an enjoyable contrast of styles in an engaging and unique performance.
LOCATION:Safety Harbor Public Library\, 101 2nd St N\, Safety Harbor\, FL 34695
UID:e.2494.12125
SEQUENCE:3
DTSTAMP:20260425T042628Z
URL:https://business.safetyharborchamber.com/events/details/wonder-light-holiday-concert-12125
END:VEVENT

END:VCALENDAR
