BEGIN:VCALENDAR
VERSION:2.0
PRODID:-//ChamberMaster//Event Calendar 2.0//EN
METHOD:PUBLISH
X-PUBLISHED-TTL:P3D
REFRESH-INTERVAL:P3D
CALSCALE:GREGORIAN
BEGIN:VEVENT
DTSTART:20230213T180000Z
DTEND:20230213T193000Z
X-MICROSOFT-CDO-ALLDAYEVENT:FALSE
SUMMARY:Wholistic Wellness Lifestyle
DESCRIPTION:Different discussions each week with Dr. James Y. Lin\, Wellness Psychologist. Learn how to experience a wholistic wellness lifestyle through inspirational presentations and experiential learning. Learn how to manage stress\, anger\, anxiety\, and depression. Meets Mondays\, 1pm on dates: 2/13\, 2/27\, 3/13. & 3/27.
X-ALT-DESC;FMTTYPE=text/html:Different discussions each week with Dr. James Y. Lin\, Wellness Psychologist. Learn how to experience a wholistic wellness lifestyle through inspirational presentations and experiential learning. Learn how to manage stress\, anger\, anxiety\, and depression. Meets Mondays\, 1pm on dates: 2/13\, 2/27\, 3/13. &amp\; 3/27.
LOCATION:Safety Harbor Public Library
UID:e.2494.12473
SEQUENCE:3
DTSTAMP:20260425T001609Z
URL:https://business.safetyharborchamber.com/events/details/wholistic-wellness-lifestyle-12473
END:VEVENT

END:VCALENDAR
