BEGIN:VCALENDAR
VERSION:2.0
PRODID:-//ChamberMaster//Event Calendar 2.0//EN
METHOD:PUBLISH
X-PUBLISHED-TTL:P3D
REFRESH-INTERVAL:P3D
CALSCALE:GREGORIAN
BEGIN:VEVENT
DTSTART:20230104T130000Z
DTEND:20230104T140000Z
X-MICROSOFT-CDO-ALLDAYEVENT:FALSE
SUMMARY:Wednesday Morning Leads Group
DESCRIPTION:A leads group is a business to business referral networking group where there is only one member per professional category.  Members meet twice per month to exchange business leads.  It is one of the best strategies for building your business.  Leads group members must be a member in good standing of the Safety Harbor Chamber.
X-ALT-DESC;FMTTYPE=text/html:<span style="color: rgb(51\, 51\, 51)\; font-family: arial\, sans-serif\; font-size: 14.6667px\; background-color: rgb(255\, 255\, 255)\;">A leads group is a business to business referral networking group where there is only one member per professional category.&nbsp\; Members meet twice per month to exchange business leads.&nbsp\; It is one of the best strategies for building your business.&nbsp\; Leads group members must be a member in good standing of the Safety Harbor Chamber.</span>
LOCATION:Chamber Conference Room 200 Main St Safety Harbor
UID:e.2494.12515
SEQUENCE:3
DTSTAMP:20260425T030815Z
URL:https://business.safetyharborchamber.com/events/details/wednesday-morning-leads-group-01-04-2023-12515
END:VEVENT

END:VCALENDAR
