BEGIN:VCALENDAR
VERSION:2.0
PRODID:-//ChamberMaster//Event Calendar 2.0//EN
METHOD:PUBLISH
X-PUBLISHED-TTL:P3D
REFRESH-INTERVAL:P3D
CALSCALE:GREGORIAN
BEGIN:VEVENT
DTSTART:20230222T233000Z
DTEND:20230223T003000Z
X-MICROSOFT-CDO-ALLDAYEVENT:FALSE
SUMMARY:Ukulele Jam Along
DESCRIPTION:TBUS volunteers lead you in song\, and share player techniques. Grow your musical skills and learn about TBUS events. Sign-in with TBUS online: www.meetup.com/tampabayukes
X-ALT-DESC;FMTTYPE=text/html:TBUS volunteers lead you in song\, and share player techniques. Grow your musical skills and learn about TBUS events. Sign-in with TBUS online: www.meetup.com/tampabayukes
LOCATION:Safety Harbor Public Library
UID:e.2494.12472
SEQUENCE:3
DTSTAMP:20260425T000852Z
URL:https://business.safetyharborchamber.com/events/details/ukulele-jam-along-02-22-2023-12472
END:VEVENT

END:VCALENDAR
