BEGIN:VCALENDAR
VERSION:2.0
PRODID:-//ChamberMaster//Event Calendar 2.0//EN
METHOD:PUBLISH
X-PUBLISHED-TTL:P3D
REFRESH-INTERVAL:P3D
CALSCALE:GREGORIAN
BEGIN:VEVENT
DTSTART:20221202T230000Z
DTEND:20221203T000000Z
X-MICROSOFT-CDO-ALLDAYEVENT:FALSE
SUMMARY:Tree Lighting
DESCRIPTION:Enjoy the lighting of Safety Harbor's giant Christmas tree. Choirs and a visit from Santa round out the evening.
X-ALT-DESC;FMTTYPE=text/html:Enjoy the lighting of Safety Harbor&#39\;s giant Christmas tree. Choirs and a visit from Santa round out the evening.
LOCATION:Gazebo @ John Wilson Park
UID:e.2494.12239
SEQUENCE:3
DTSTAMP:20260425T030350Z
URL:https://business.safetyharborchamber.com/events/details/tree-lighting-12239
END:VEVENT

END:VCALENDAR
