BEGIN:VCALENDAR
VERSION:2.0
PRODID:-//ChamberMaster//Event Calendar 2.0//EN
METHOD:PUBLISH
X-PUBLISHED-TTL:P3D
REFRESH-INTERVAL:P3D
CALSCALE:GREGORIAN
BEGIN:VEVENT
DTSTART:20220211T210000Z
DTEND:20220211T220000Z
X-MICROSOFT-CDO-ALLDAYEVENT:FALSE
SUMMARY:Toddler Trot
DESCRIPTION:Family Friendly Fun run for little ones ages 2-8. Times: ages 2-3 start 4:15 ages 4-5 start 4:30 ages 6-8 start 4:45
X-ALT-DESC;FMTTYPE=text/html:Family Friendly Fun run for little ones ages 2-8. Times: ages 2-3 start 4:15 ages 4-5 start 4:30 ages 6-8 start 4:45
LOCATION:Waterfront Park
UID:e.2494.10727
SEQUENCE:3
DTSTAMP:20260425T182546Z
URL:https://business.safetyharborchamber.com/events/details/toddler-trot-10727
END:VEVENT

END:VCALENDAR
