BEGIN:VCALENDAR
VERSION:2.0
PRODID:-//ChamberMaster//Event Calendar 2.0//EN
METHOD:PUBLISH
X-PUBLISHED-TTL:P3D
REFRESH-INTERVAL:P3D
CALSCALE:GREGORIAN
BEGIN:VEVENT
DTSTART:20220331T223000Z
DTEND:20220331T233000Z
X-MICROSOFT-CDO-ALLDAYEVENT:FALSE
SUMMARY:The Jazz Phools in Concert
DESCRIPTION:Get your toes tapping at the Safety Harbor Public Library on Thursday\, March 31 at 6:30 pm with The Jazz Phools. The band will thrill you with irresistible dance rhythms and energetic sounds of hot jazz from the 1920s and 30s\, Dixieland and New Orleans jazz\, along with swing standards. The Jazz Phools band is comprised of six musicians from the Tampa Bay Area who set themselves apart from other bands in their stylistic versatility and love for hot vintage jazz. For more information on The Jazz Phools visit www.thejazzphools.com. The Library is located at 101 2nd Street North\, Safety Harbor. Call 724-1525 x 4112 for more information or visit www.SafetyHarborLibrary.com.
X-ALT-DESC;FMTTYPE=text/html:Get your toes tapping at the Safety Harbor Public Library on Thursday\, March 31 at 6:30 pm with The Jazz Phools. The band will thrill you with irresistible dance rhythms and energetic sounds of hot jazz from the 1920s and 30s\, Dixieland and New Orleans jazz\, along with swing standards. The Jazz Phools band is comprised of six musicians from the Tampa Bay Area who set themselves apart from other bands in their stylistic versatility and love for hot vintage jazz. For more information on The Jazz Phools visit www.thejazzphools.com. The Library is located at 101 2nd Street North\, Safety Harbor. Call 724-1525 x 4112 for more information or visit www.SafetyHarborLibrary.com.
LOCATION:Safety Harbor Public Library\, 101 2nd St N\, Safety Harbor\, FL 34695
UID:e.2494.10868
SEQUENCE:3
DTSTAMP:20260425T154912Z
URL:https://business.safetyharborchamber.com/events/details/the-jazz-phools-in-concert-10868
END:VEVENT

END:VCALENDAR
