BEGIN:VCALENDAR
VERSION:2.0
PRODID:-//ChamberMaster//Event Calendar 2.0//EN
METHOD:PUBLISH
X-PUBLISHED-TTL:P3D
REFRESH-INTERVAL:P3D
CALSCALE:GREGORIAN
BEGIN:VEVENT
DTSTART:20211016T220000Z
DTEND:20211017T020000Z
X-MICROSOFT-CDO-ALLDAYEVENT:FALSE
SUMMARY:The End Table's 1 year Anniversary party
DESCRIPTION:Come celebrate our 1 year anniversary with us! We'll have music\, refreshments\, light bites and of course boutique furniture! We're so excited to share our milestone with you.
X-ALT-DESC;FMTTYPE=text/html:Come celebrate our 1 year anniversary with us! We&rsquo\;ll have music\, refreshments\, light bites and of course boutique furniture! We&rsquo\;re so excited to share our milestone with you.
LOCATION:The End Table 550 Main St. Safety Harbor
UID:e.2494.10568
SEQUENCE:3
DTSTAMP:20260426T000157Z
URL:https://business.safetyharborchamber.com/events/details/the-end-table-s-1-year-anniversary-party-10568
END:VEVENT

END:VCALENDAR
