BEGIN:VCALENDAR
VERSION:2.0
PRODID:-//ChamberMaster//Event Calendar 2.0//EN
METHOD:PUBLISH
X-PUBLISHED-TTL:P3D
REFRESH-INTERVAL:P3D
CALSCALE:GREGORIAN
BEGIN:VEVENT
DTSTART:20241120T231500Z
DTEND:20241121T004500Z
X-MICROSOFT-CDO-ALLDAYEVENT:FALSE
SUMMARY:TBUS Ukulele JamALONG
DESCRIPTION:Ukulele JamALONG: Wednesday\, November 20\, 6:15-7:45 pm. Ukuleles play along with the JamALONG Gang volunteer musicians. Emily & Mike lead Hitsville\, USA Motown favorites from 1959-1971. Players share techniques\, new chords & songs\, trivia\, prizes\, and more. TBUS requests sign-in online: https://www.meetup.com/tampabayukes
X-ALT-DESC;FMTTYPE=text/html:Ukulele JamALONG: Wednesday\, November 20\, 6:15-7:45 pm. Ukuleles play along with the JamALONG Gang volunteer musicians. Emily &amp\; Mike lead Hitsville\, USA Motown favorites from 1959-1971. Players share techniques\, new chords &amp\; songs\, trivia\, prizes\, and more. TBUS requests sign-in online: https://www.meetup.com/tampabayukes
LOCATION:Harborside Christian Church\, 2200 Marshall St.\, Safety Harbor\, FL 34695
UID:e.2494.14624
SEQUENCE:3
DTSTAMP:20260421T071603Z
URL:https://business.safetyharborchamber.com/events/details/tbus-ukulele-jamalong-14624
END:VEVENT

END:VCALENDAR
