BEGIN:VCALENDAR
VERSION:2.0
PRODID:-//ChamberMaster//Event Calendar 2.0//EN
METHOD:PUBLISH
X-PUBLISHED-TTL:P3D
REFRESH-INTERVAL:P3D
CALSCALE:GREGORIAN
BEGIN:VEVENT
DTSTART:20230215T233000Z
DTEND:20230216T003000Z
X-MICROSOFT-CDO-ALLDAYEVENT:FALSE
SUMMARY:TBUS Ukulele Beginner Workshop\, Part II\,
DESCRIPTION:TBUS musicians will teach attendees additional songs and strumming techniques. Meet other enthusiasts and find out how to check out a ukulele at your library.
X-ALT-DESC;FMTTYPE=text/html:TBUS musicians will teach attendees additional songs and strumming techniques. Meet other enthusiasts and find out how to check out a ukulele at your library.
LOCATION:Safety Harbor Public Library
UID:e.2494.12471
SEQUENCE:3
DTSTAMP:20260425T000807Z
URL:https://business.safetyharborchamber.com/events/details/tbus-ukulele-beginner-workshop-part-ii-12471
END:VEVENT

END:VCALENDAR
