BEGIN:VCALENDAR
VERSION:2.0
PRODID:-//ChamberMaster//Event Calendar 2.0//EN
METHOD:PUBLISH
X-PUBLISHED-TTL:P3D
REFRESH-INTERVAL:P3D
CALSCALE:GREGORIAN
BEGIN:VEVENT
DTSTART:20230208T233000Z
DTEND:20230209T003000Z
X-MICROSOFT-CDO-ALLDAYEVENT:FALSE
SUMMARY:TBUS Ukulele Beginner Workshop\, Part 1
DESCRIPTION:. Learn all about the different ukulele sizes\, how to hold\, tune\, strum\, and play a few chords. Attendees will learn songs and be provided with information for continued education\, events\, and online resources.
X-ALT-DESC;FMTTYPE=text/html:. Learn all about the different ukulele sizes\, how to hold\, tune\, strum\, and play a few chords. Attendees will learn songs and be provided with information for continued education\, events\, and online resources.
LOCATION:Safety Harbor Public Library
UID:e.2494.12470
SEQUENCE:3
DTSTAMP:20260425T000828Z
URL:https://business.safetyharborchamber.com/events/details/tbus-ukulele-beginner-workshop-part-1-12470
END:VEVENT

END:VCALENDAR
