BEGIN:VCALENDAR
VERSION:2.0
PRODID:-//ChamberMaster//Event Calendar 2.0//EN
METHOD:PUBLISH
X-PUBLISHED-TTL:P3D
REFRESH-INTERVAL:P3D
CALSCALE:GREGORIAN
BEGIN:VEVENT
DTSTART:20220120T000000Z
DTEND:20220120T010000Z
X-MICROSOFT-CDO-ALLDAYEVENT:FALSE
SUMMARY:TBUS Beyond Beginner Ukulele Workshop
DESCRIPTION:TBUS volunteers Emily\, Mike & Karen lead you in practice\, play\, and song. Grow your musical skills and learn about TBUS events. Bring your own Ukulele or check-out a Ukulele starter kit at the library. A family friendly program. Sign-in with TBUS online: www.meetup.com/tampabayukes Practice with Dunedin Ukes: dunedinukes.weebly.com/
X-ALT-DESC;FMTTYPE=text/html:TBUS volunteers Emily\, Mike &amp\; Karen lead you in practice\, play\, and song. Grow your musical skills and learn about TBUS events. Bring your own Ukulele or check-out a Ukulele starter kit at the library. A family friendly program. Sign-in with TBUS online: www.meetup.com/tampabayukes Practice with Dunedin Ukes: dunedinukes.weebly.com/
LOCATION:Safety Harbor Public Library
UID:e.2494.10635
SEQUENCE:3
DTSTAMP:20260425T194323Z
URL:https://business.safetyharborchamber.com/events/details/tbus-beyond-beginner-ukulele-workshop-10635
END:VEVENT

END:VCALENDAR
