BEGIN:VCALENDAR
VERSION:2.0
PRODID:-//ChamberMaster//Event Calendar 2.0//EN
METHOD:PUBLISH
X-PUBLISHED-TTL:P3D
REFRESH-INTERVAL:P3D
CALSCALE:GREGORIAN
BEGIN:VEVENT
DTSTART:20230316T223000Z
DTEND:20230316T233000Z
X-MICROSOFT-CDO-ALLDAYEVENT:FALSE
SUMMARY:Sounds of Ireland Concert with the King of Strings
DESCRIPTION:The Safety Harbor Public Library presents Sounds of Ireland: Concert with the King of Strings\, Gary Lovini on Thursday\, March 16 at 6:30 pm. From Lord of the Dance to Danny Boy\, Gary warms audience hearts with the beauty of Irish music\, performing Irish classics in his own inimitable style guaranteed to get feet tapping and hands clapping. Lovini\, originally from the UK\, began his professional music career as a teenager. Today he makes his home in Orlando\, Florida. With his mastery of the violin\, he created a loyal following amongst classical and pop fans alike. Successfully bridging the gap between classical and popular music\, Lovini plays an important role in bringing his violin showmanship to a wider audience. For more information on Gary Lovini\, please visit\, www.GaryLovini.com.
X-ALT-DESC;FMTTYPE=text/html:The Safety Harbor Public Library presents Sounds of Ireland: Concert with the King of Strings\, Gary Lovini on Thursday\, March 16 at 6:30 pm. From Lord of the Dance to Danny Boy\, Gary warms audience hearts with the beauty of Irish music\, performing Irish classics in his own inimitable style guaranteed to get feet tapping and hands clapping. Lovini\, originally from the UK\, began his professional music career as a teenager. Today he makes his home in Orlando\, Florida. With his mastery of the violin\, he created a loyal following amongst classical and pop fans alike. Successfully bridging the gap between classical and popular music\, Lovini plays an important role in bringing his violin showmanship to a wider audience. For more information on Gary Lovini\, please visit\, www.GaryLovini.com.
LOCATION:Safety Harbor Public Library\, 101 2nd St N\, Safety Harbor\, FL 34695
UID:e.2494.12479
SEQUENCE:3
DTSTAMP:20260425T002149Z
URL:https://business.safetyharborchamber.com/events/details/sounds-of-ireland-concert-with-the-king-of-strings-12479
END:VEVENT

END:VCALENDAR
