BEGIN:VCALENDAR
VERSION:2.0
PRODID:-//ChamberMaster//Event Calendar 2.0//EN
METHOD:PUBLISH
X-PUBLISHED-TTL:P3D
REFRESH-INTERVAL:P3D
CALSCALE:GREGORIAN
BEGIN:VEVENT
DTSTART:20241130T150000Z
DTEND:20241130T220000Z
X-MICROSOFT-CDO-ALLDAYEVENT:FALSE
SUMMARY:Small Business Saturday
DESCRIPTION:Saturday\, November 30\, 2024 is Small Business Saturday   a day to celebrate and support small businesses and all they do for their communities. When your dollars stay in your community\, you help small businesses thrive and your neighborhood prosper.\n\n\n\nPlease shop local and support our local small businesses. After 3 hurricanes this season\, our local merchants need your support more than ever! Visit Safety Harbor for all of your holiday shopping needs!
X-ALT-DESC;FMTTYPE=text/html:<span style="font-size:18px\;"><span style="font-family:verdana\;"><span style="color: rgb(27\, 27\, 27)\;">Saturday\, November 30\, 2024 is Small Business Saturday &ndash\; a day to celebrate and support small businesses and all they do for their communities. When your dollars stay in your community\, you help small businesses thrive and your neighborhood prosper.</span><br />\n<br style="color: rgb(27\, 27\, 27)\; font-family: &quot\;Source Sans Pro Web&quot\;\, &quot\;Helvetica Neue&quot\;\, Helvetica\, Roboto\, Arial\, sans-serif\; font-size: 18.08px\;" />\n<span style="color: rgb(27\, 27\, 27)\;">Please shop local and support our local small businesses.&nbsp\;</span>After 3 hurricanes this season\, our local merchants need your support more than ever! Visit Safety Harbor for all of your holiday shopping needs!&nbsp\;</span></span>
LOCATION:Safety Harbor\, FL
UID:e.2494.14629
SEQUENCE:3
DTSTAMP:20260421T071640Z
URL:https://business.safetyharborchamber.com/events/details/small-business-saturday-14629
END:VEVENT

END:VCALENDAR
