BEGIN:VCALENDAR
VERSION:2.0
PRODID:-//ChamberMaster//Event Calendar 2.0//EN
METHOD:PUBLISH
X-PUBLISHED-TTL:P3D
REFRESH-INTERVAL:P3D
CALSCALE:GREGORIAN
BEGIN:VEVENT
DTSTART:20220108T150000Z
DTEND:20220108T220000Z
X-MICROSOFT-CDO-ALLDAYEVENT:FALSE
SUMMARY:Sidewalk Sale January 8th\, 2022
DESCRIPTION:DOWNTOWN SAFETY HARBOR SIDEWALK SALE\n\nSaturday\, January 8th. Join us for a fabulous sidewalk sale in downtown Safety Harbor. Shop local\, support our amazing businesses and expect to see lots of steals and deals. Bring your friends and plan to shop 'til you drop. Make it a great dining experience too!
X-ALT-DESC;FMTTYPE=text/html:<span style="background-color: rgb(255\, 255\, 255)\; color: rgb(10\, 40\, 122)\; font-family: Arial\, Verdana\, Helvetica\, sans-serif\; font-size: 14px\; text-align: center\; white-space: pre-wrap\;">DOWNTOWN SAFETY HARBOR SIDEWALK SALE</span><br style="color: rgb(51\, 51\, 51)\; font-family: sans-serif\, Arial\, Verdana\, &quot\;Trebuchet MS&quot\;\; font-size: 13px\;" />\n<span style="color: rgb(51\, 51\, 51)\; background-color: rgb(255\, 255\, 255)\; font-family: system-ui\, -apple-system\, BlinkMacSystemFont\, HelveticaNeue\, &quot\;Helvetica Neue&quot\;\, Helvetica\, Roboto\, &quot\;Segoe UI&quot\;\, Arial\, sans-serif\; font-size: 14px\; white-space: pre-wrap\;">Saturday\, January 8th. Join us for a fabulous sidewalk sale in downtown Safety Harbor. Shop local\, support our amazing businesses and expect to see lots of steals and deals. Bring your friends and plan to shop &#39\;til you drop. Make it a great dining experience too!</span>
LOCATION:Downtown Safety Harbor
UID:e.2494.10632
SEQUENCE:3
DTSTAMP:20260425T183131Z
URL:https://business.safetyharborchamber.com/events/details/sidewalk-sale-january-8th-2022-10632
END:VEVENT

END:VCALENDAR
