BEGIN:VCALENDAR
VERSION:2.0
PRODID:-//ChamberMaster//Event Calendar 2.0//EN
METHOD:PUBLISH
X-PUBLISHED-TTL:P3D
REFRESH-INTERVAL:P3D
CALSCALE:GREGORIAN
BEGIN:VEVENT
DTSTART;VALUE=DATE:20220616
DTEND;VALUE=DATE:20220617
TRANSP:TRANSPARENT
X-MICROSOFT-CDO-ALLDAYEVENT:TRUE
SUMMARY:SHINE Medicare Counseling Available by Phone
DESCRIPTION:The Florida Department of Elder Affairs? SHINE (Serving Health Insurance Needs of Elders) program is available to provide free\, unbiased one-on-one insurance counseling and information on Medicare options and prescription drug assistance for elders\, their families\, and caregivers. To make an appointment to speak confidentially with a local SHINE Medicare Counselor by phone or virtual session\, call 727-724-1525 x4107 or visit us online\; https://form.jotform.com/shlibrary/SHINE-appointment The SHINE Program provides socially distant solutions to provide local\, in-depth\, and objective insurance counseling and assistance to Medicare-eligible individuals\, their families\, and caregivers. For a listing of SHINE counseling sites and public events\, please visit www.FloridaSHINE.org
X-ALT-DESC;FMTTYPE=text/html:The Florida Department of Elder Affairs? SHINE (Serving Health Insurance Needs of Elders) program is available to provide free\, unbiased one-on-one insurance counseling and information on Medicare options and prescription drug assistance for elders\, their families\, and caregivers. To make an appointment to speak confidentially with a local SHINE Medicare Counselor by phone or virtual session\, call 727-724-1525 x4107 or visit us online\; https://form.jotform.com/shlibrary/SHINE-appointment The SHINE Program provides socially distant solutions to provide local\, in-depth\, and objective insurance counseling and assistance to Medicare-eligible individuals\, their families\, and caregivers. For a listing of SHINE counseling sites and public events\, please visit www.FloridaSHINE.org
LOCATION:The library is located 101 2nd Street N.\, Safety Harbor\, FL 34695. For more information\, contact 727- 724-1525 x 4107 or visit www.SafetyHarborLibrary.com.
UID:e.2494.10705
SEQUENCE:3
DTSTAMP:20260425T112111Z
URL:https://business.safetyharborchamber.com/events/details/shine-medicare-counseling-available-by-phone-06-16-2022-10705
END:VEVENT

END:VCALENDAR
