BEGIN:VCALENDAR
VERSION:2.0
PRODID:-//ChamberMaster//Event Calendar 2.0//EN
METHOD:PUBLISH
X-PUBLISHED-TTL:P3D
REFRESH-INTERVAL:P3D
CALSCALE:GREGORIAN
BEGIN:VEVENT
DTSTART;VALUE=DATE:20221206
DTEND;VALUE=DATE:20221207
TRANSP:TRANSPARENT
X-MICROSOFT-CDO-ALLDAYEVENT:TRUE
SUMMARY:SHINE Medicare Counseling
DESCRIPTION:SHINE provides free\, unbiased\, and confidential health insurance counseling. Call 727-724-1525 x 4107 to schedule a phone or Zoom appointment.
X-ALT-DESC;FMTTYPE=text/html:SHINE provides free\, unbiased\, and confidential health insurance counseling. Call 727-724-1525 x 4107 to schedule a phone or Zoom appointment.
LOCATION:Safety Harbor Public Library
UID:e.2494.11398
SEQUENCE:3
DTSTAMP:20260425T031018Z
URL:https://business.safetyharborchamber.com/events/details/shine-medicare-counseling-12-06-2022-11398
END:VEVENT

END:VCALENDAR
