BEGIN:VCALENDAR
VERSION:2.0
PRODID:-//ChamberMaster//Event Calendar 2.0//EN
METHOD:PUBLISH
X-PUBLISHED-TTL:P3D
REFRESH-INTERVAL:P3D
CALSCALE:GREGORIAN
BEGIN:VEVENT
DTSTART:20241115T180000Z
DTEND:20241115T193000Z
X-MICROSOFT-CDO-ALLDAYEVENT:FALSE
SUMMARY:SHINE Medicare Basics
DESCRIPTION:SHINE Medicare Basics: Friday\, November 15\, 1 pm. The Medicare Basics presentation conducted by the SHINE program will provide information on the basics of Medicare Coverage that falls into four different areas called "parts"- Medicare Part A\, B\, C\, & D\, and what they mean to you. Counselors will be available to answer questions.
X-ALT-DESC;FMTTYPE=text/html:SHINE Medicare Basics: Friday\, November 15\, 1 pm. The Medicare Basics presentation conducted by the SHINE program will provide information on the basics of Medicare Coverage that falls into four different areas called &ldquo\;parts&rdquo\;- Medicare Part A\, B\, C\, &amp\; D\, and what they mean to you. Counselors will be available to answer questions.
LOCATION:Safety Harbor Public Library\, 101 2nd Street N.\, Safety Harbor\, FL 34695
UID:e.2494.14622
SEQUENCE:3
DTSTAMP:20260421T071931Z
URL:https://business.safetyharborchamber.com/events/details/shine-medicare-basics-11-15-2024-14622
END:VEVENT

END:VCALENDAR
