BEGIN:VCALENDAR
VERSION:2.0
PRODID:-//ChamberMaster//Event Calendar 2.0//EN
METHOD:PUBLISH
X-PUBLISHED-TTL:P3D
REFRESH-INTERVAL:P3D
CALSCALE:GREGORIAN
BEGIN:VEVENT
DTSTART:20210918T140000Z
DTEND:20210918T160000Z
X-MICROSOFT-CDO-ALLDAYEVENT:FALSE
SUMMARY:SHINE Medicare Basics
DESCRIPTION:The public is invited to attend a Medicare Basics presentation on Saturday\, September 18\, 10:00am-12:00pm at the Safety Harbor Public Library. The "Medicare Basics" presentation\, conducted by specially trained volunteers of the SHINE Program\, will provide detailed information on the basics of the Medicare program. The presentation is an overview of the different parts of Medicare including Parts A and B\, Medicare Advantage plans\, Drug plans\, Medicare supplement insurance and available financial assistance programs. SHINE volunteers will be available to answer questions and provide enrollment or benefit application assistance.
X-ALT-DESC;FMTTYPE=text/html:The public is invited to attend a Medicare Basics presentation on Saturday\, September 18\, 10:00am-12:00pm at the Safety Harbor Public Library. The &ldquo\;Medicare Basics&rdquo\; presentation\, conducted by specially trained volunteers of the SHINE Program\, will provide detailed information on the basics of the Medicare program. The presentation is an overview of the different parts of Medicare including Parts A and B\, Medicare Advantage plans\, Drug plans\, Medicare supplement insurance and available financial assistance programs. SHINE volunteers will be available to answer questions and provide enrollment or benefit application assistance.
LOCATION:The Safety Harbor Public Library is located 101 2nd Street N.\, Safety Harbor\, FL 34695.
UID:e.2494.9946
SEQUENCE:3
DTSTAMP:20260426T011840Z
URL:https://business.safetyharborchamber.com/events/details/shine-medicare-basics-09-18-2021-9946
END:VEVENT

END:VCALENDAR
