BEGIN:VCALENDAR
VERSION:2.0
PRODID:-//ChamberMaster//Event Calendar 2.0//EN
METHOD:PUBLISH
X-PUBLISHED-TTL:P3D
REFRESH-INTERVAL:P3D
CALSCALE:GREGORIAN
BEGIN:VEVENT
DTSTART:20220429T130000Z
DTEND:20220429T140000Z
X-MICROSOFT-CDO-ALLDAYEVENT:FALSE
SUMMARY:Safety Harbor Trash Walkers: Cleaning Safety Harbor
DESCRIPTION:Help clean up Safety Harbor with the Safety Harbor Public Library on Friday\, April 29\, from 9:00   10:00 am. We'll meet in the Art Park behind the library and spread out to pickup trash in Downtown Safety Harbor. Participants are asked to wear weather appropriate attire and comfortable walking shoes. The library will provide gloves\, bags\, and grabbers for the clean-up.
X-ALT-DESC;FMTTYPE=text/html:Help clean up Safety Harbor with the Safety Harbor Public Library on Friday\, April 29\, from 9:00 &ndash\; 10:00 am. We&rsquo\;ll meet in the Art Park behind the library and spread out to pickup trash in Downtown Safety Harbor. Participants are asked to wear weather appropriate attire and comfortable walking shoes. The library will provide gloves\, bags\, and grabbers for the clean-up.
LOCATION:Safety Harbor Public Library\, 101 2nd St N\, Safety Harbor\, FL 34695
UID:e.2494.10892
SEQUENCE:3
DTSTAMP:20260425T141745Z
URL:https://business.safetyharborchamber.com/events/details/safety-harbor-trash-walkers-cleaning-safety-harbor-10892
END:VEVENT

END:VCALENDAR
