BEGIN:VCALENDAR
VERSION:2.0
PRODID:-//ChamberMaster//Event Calendar 2.0//EN
METHOD:PUBLISH
X-PUBLISHED-TTL:P3D
REFRESH-INTERVAL:P3D
CALSCALE:GREGORIAN
BEGIN:VEVENT
DTSTART:20241102T220000Z
DTEND:20241103T020000Z
X-MICROSOFT-CDO-ALLDAYEVENT:FALSE
SUMMARY:Rotary Royale | A Masequerade Gala
DESCRIPTION:Get ready to step into a world of mystery and elegance at the Rotary Royale Masquerade Gala! Get your tickets now for an unforgettable evening filled with masked enchantment\, a live band\, and memorable festivities benefiting the Rotary Club of Safety Harbor Noon. Join us as we celebrate in style\, dance the night away\, and raise funds to support charitable causes in our community. Mark your calendars and prepare to unveil the magic behind the mask! #RotaryRoyaleGala
X-ALT-DESC;FMTTYPE=text/html:<span style="color:rgb(5\, 5\, 5)\; font-family:segoe ui historic\,segoe ui\,helvetica\,arial\,sans-serif\; font-size:15px">Get ready to step into a world of mystery and elegance at the Rotary Royale Masquerade Gala! Get your tickets now for an unforgettable evening filled with masked enchantment\, a live band\, and memorable festivities benefiting the Rotary Club of Safety Harbor Noon. Join us as we celebrate in style\, dance the night away\, and raise funds to support charitable causes in our community. Mark your calendars and prepare to unveil the magic behind the mask!&nbsp\;</span><a class="x1i10hfl xjbqb8w x1ejq31n xd10rxx x1sy0etr x17r0tee x972fbf xcfux6l x1qhh985 xm0m39n x9f619 x1ypdohk xt0psk2 xe8uvvx xdj266r x11i5rnm xat24cr x1mh8g0r xexx8yu x4uap5 x18d9i69 xkhd6sd x16tdsg8 x1hl2dhg xggy1nq x1a2a7pz x1sur9pj xkrqix3 xzsf02u x1s688f" href="https://www.facebook.com/hashtag/rotaryroyalegala?__eep__=6&amp\;__cft__[0]=AZWaBaKdnXxfsdt_Nz0otsqSZzkRvyG4fXDO3-9nXXi1pMD07Av97hSMzUvGxeIWX8pDtvM8jL3r4Hu0ssX2Skndk4umRv5-OS1pUOExl7tKFoDmZ_Oi5BoJZryJ07V3ZoDJbaG9xfIQbV6K94Obt7jB&amp\;__tn__=q" style="color: var(--primary-text)\; cursor: pointer\; text-decoration-line: none\; list-style: none\; margin: 0px\; border-style: none\; padding: 0px\; box-sizing: border-box\; border-width: 0px\; outline: none\; -webkit-tap-highlight-color: transparent\; font-weight: 600\; touch-action: manipulation\; display: inline\; font-family: &quot\;Segoe UI Historic&quot\;\, &quot\;Segoe UI&quot\;\, Helvetica\, Arial\, sans-serif\; font-size: 15px\;" tabindex="0">#RotaryRoyaleGala</a>
LOCATION:Ruth Eckerd Hall
UID:e.2494.14599
SEQUENCE:3
DTSTAMP:20260421T071828Z
URL:https://business.safetyharborchamber.com/events/details/rotary-royale-a-masequerade-gala-14599
END:VEVENT

END:VCALENDAR
