BEGIN:VCALENDAR
VERSION:2.0
PRODID:-//ChamberMaster//Event Calendar 2.0//EN
METHOD:PUBLISH
X-PUBLISHED-TTL:P3D
REFRESH-INTERVAL:P3D
CALSCALE:GREGORIAN
BEGIN:VEVENT
DTSTART:20220218T223000Z
DTEND:20220218T232500Z
X-MICROSOFT-CDO-ALLDAYEVENT:FALSE
SUMMARY:Ribbon Cutting - Southern Life Realty & Green Earth Commercial Contracting
DESCRIPTION:Join us in welcoming Southern Life Realty and Green Earth Commercial Contracting Co. to Main Street! Check out their beautiful new space and make new connections. Light food and beverages will be provided\, and then from there you can go out and enjoy 3rd Friday festivities!
X-ALT-DESC;FMTTYPE=text/html:Join us in welcoming Southern Life Realty and Green Earth Commercial Contracting Co. to Main Street! Check out their beautiful new space and make new connections. Light food and beverages will be provided\, and then from there you can go out and enjoy 3rd Friday festivities!
LOCATION:500 Main St Suite J Safety Harbor
UID:e.2494.10863
SEQUENCE:3
DTSTAMP:20260425T183449Z
URL:https://business.safetyharborchamber.com/events/details/ribbon-cutting-southern-life-realty-green-earth-commercial-contracting-10863
END:VEVENT

END:VCALENDAR
