BEGIN:VCALENDAR
VERSION:2.0
PRODID:-//ChamberMaster//Event Calendar 2.0//EN
METHOD:PUBLISH
X-PUBLISHED-TTL:P3D
REFRESH-INTERVAL:P3D
CALSCALE:GREGORIAN
BEGIN:VEVENT
DTSTART:20230523T213000Z
DTEND:20230523T230000Z
X-MICROSOFT-CDO-ALLDAYEVENT:FALSE
SUMMARY:Ribbon Cutting @ Maggie's Cafe and Smoothies
DESCRIPTION:Please join us to celebrate Maggie's Cafe and Smoothies' One Year Anniversary and Ribbon Cutting! Light food and beverages will be served. Ribbon Cutting to take place at 6pm.
X-ALT-DESC;FMTTYPE=text/html:Please join us to celebrate Maggie&#39\;s Cafe and Smoothies&#39\; One Year Anniversary and Ribbon Cutting! Light food and beverages will be served. Ribbon Cutting to take place at 6pm.
LOCATION:500 Main Street Suite C Safety Harbor
UID:e.2494.12510
SEQUENCE:3
DTSTAMP:20260424T213648Z
URL:https://business.safetyharborchamber.com/events/details/ribbon-cutting-maggie-s-cafe-and-smoothies-12510
END:VEVENT

END:VCALENDAR
