BEGIN:VCALENDAR
VERSION:2.0
PRODID:-//ChamberMaster//Event Calendar 2.0//EN
METHOD:PUBLISH
X-PUBLISHED-TTL:P3D
REFRESH-INTERVAL:P3D
CALSCALE:GREGORIAN
BEGIN:VEVENT
DTSTART:20230316T213000Z
DTEND:20230316T230000Z
X-MICROSOFT-CDO-ALLDAYEVENT:FALSE
SUMMARY:Ribbon Cutting @ Jerome's Cafe and Bakery
DESCRIPTION:Please join us for a Grand Opening and Ribbon Cutting for Jerome's Cafe and Bakery! Light food and beverages will be served. Ribbon Cutting to take place at 6pm.
X-ALT-DESC;FMTTYPE=text/html:Please join us for a Grand Opening and Ribbon Cutting for Jerome&#39\;s Cafe and Bakery! Light food and beverages will be served. Ribbon Cutting to take place at 6pm.
LOCATION:2454 N. McMullen Booth Rd Suite 424
UID:e.2494.12406
SEQUENCE:3
DTSTAMP:20260424T230119Z
URL:https://business.safetyharborchamber.com/events/details/ribbon-cutting-jerome-s-cafe-and-bakery-12406
END:VEVENT

END:VCALENDAR
