BEGIN:VCALENDAR
VERSION:2.0
PRODID:-//ChamberMaster//Event Calendar 2.0//EN
METHOD:PUBLISH
X-PUBLISHED-TTL:P3D
REFRESH-INTERVAL:P3D
CALSCALE:GREGORIAN
BEGIN:VEVENT
DTSTART:20241115T203000Z
DTEND:20241115T220000Z
X-MICROSOFT-CDO-ALLDAYEVENT:FALSE
SUMMARY:Ribbon Cutting & Grand Opening - RE/MAX Action First Cafe
DESCRIPTION:Join us in celebrating the Grand Opening and Ribbon Cutting of RE/MAX Action First Cafe!  We are so excited to celebrate this wonderful Downtown business!\n\nEnjoy 3rd Friday after. Please park your car in the   available car park spaces or side streets\, vendors will need access to Main Street and there is no parking there after 4pm.
X-ALT-DESC;FMTTYPE=text/html:<strong><span style="font-size:22px\;">Join us in celebrating the Grand Opening and Ribbon Cutting of RE/MAX Action First Cafe!&nbsp\; We are so excited to celebrate this wonderful Downtown business!<br />\nEnjoy 3rd Friday after. Please park your car in the&nbsp\; &nbsp\;available car park spaces or side streets\, vendors will need access to Main Street and there is no parking there after 4pm.&nbsp\;</span></strong>
LOCATION:737 Main St Suite 102 Safety Harbor
UID:e.2494.14618
SEQUENCE:3
DTSTAMP:20260421T072203Z
URL:https://business.safetyharborchamber.com/events/details/ribbon-cutting-grand-opening-re-max-action-first-cafe-14618
END:VEVENT

END:VCALENDAR
