BEGIN:VCALENDAR
VERSION:2.0
PRODID:-//ChamberMaster//Event Calendar 2.0//EN
METHOD:PUBLISH
X-PUBLISHED-TTL:P3D
REFRESH-INTERVAL:P3D
CALSCALE:GREGORIAN
BEGIN:VEVENT
DTSTART:20230302T223000Z
DTEND:20230303T000000Z
X-MICROSOFT-CDO-ALLDAYEVENT:FALSE
SUMMARY:RIBBON CUTTING @ Clear Skin Dermatology PA
DESCRIPTION:Please join us for a Grand Opening and Ribbon Cutting for Clear Skin Dermatology! Light food and beverages will be served. Ribbon Cutting to take place at 6pm.
X-ALT-DESC;FMTTYPE=text/html:Please join us for a Grand Opening and Ribbon Cutting for Clear Skin Dermatology! Light food and beverages will be served. Ribbon Cutting to take place at 6pm.
LOCATION:2454 N. McMullen Booth Rd Suite 424
UID:e.2494.12250
SEQUENCE:3
DTSTAMP:20260424T230431Z
URL:https://business.safetyharborchamber.com/events/details/ribbon-cutting-clear-skin-dermatology-pa-12250
END:VEVENT

END:VCALENDAR
