BEGIN:VCALENDAR
VERSION:2.0
PRODID:-//ChamberMaster//Event Calendar 2.0//EN
METHOD:PUBLISH
X-PUBLISHED-TTL:P3D
REFRESH-INTERVAL:P3D
CALSCALE:GREGORIAN
BEGIN:VEVENT
DTSTART:20230112T233000Z
DTEND:20230113T010000Z
X-MICROSOFT-CDO-ALLDAYEVENT:FALSE
SUMMARY:Remembering the Owls of Philippe Park…And What’s Next
DESCRIPTION:Philippe Park used to be the home of a Great Horned Owl family for years\, until the owls were unintentionally killed by anticoagulant poisons used to eliminate rats. Unfortunately\, similar tragedies are occurring nationwide\, and the Safety Harbor Strong Owls & Nature Group is spreading awareness into the use and consequences of these deadly poisons. The presentation will share how to prevent further tragedies by using safer rodenticides and taking preventative measures in your home or business pest control plan. Presentation will be held in person at the library and virtually through Zoom. Visit https://events.safetyharborlibrary.org/event/owls to receive the link to the virtual meeting.
X-ALT-DESC;FMTTYPE=text/html:Philippe Park used to be the home of a Great Horned Owl family for years\, until the owls were unintentionally killed by anticoagulant poisons used to eliminate rats. Unfortunately\, similar tragedies are occurring nationwide\, and the Safety Harbor Strong Owls &amp\; Nature Group is spreading awareness into the use and consequences of these deadly poisons. The presentation will share how to prevent further tragedies by using safer rodenticides and taking preventative measures in your home or business pest control plan. Presentation will be held in person at the library and virtually through Zoom. Visit https://events.safetyharborlibrary.org/event/owls to receive the link to the virtual meeting.
LOCATION:Safety Harbor Public Library\, 101 2nd St N\, Safety Harbor\, FL 34695
UID:e.2494.12249
SEQUENCE:3
DTSTAMP:20260425T030937Z
URL:https://business.safetyharborchamber.com/events/details/remembering-the-owls-of-philippe-park-and-what-s-next-12249
END:VEVENT

END:VCALENDAR
