BEGIN:VCALENDAR
VERSION:2.0
PRODID:-//ChamberMaster//Event Calendar 2.0//EN
METHOD:PUBLISH
X-PUBLISHED-TTL:P3D
REFRESH-INTERVAL:P3D
CALSCALE:GREGORIAN
BEGIN:VEVENT
DTSTART:20230512T203000Z
DTEND:20230513T000000Z
X-MICROSOFT-CDO-ALLDAYEVENT:FALSE
SUMMARY:Platinum PT Ribbon Cutting
DESCRIPTION:Platinum PT is having a grand opening and Ribbon Cutting in their new office. There will be a Raffle\, food and beverages!
X-ALT-DESC;FMTTYPE=text/html:Platinum PT is having a grand opening and Ribbon Cutting in their new office. There will be a Raffle\, food and beverages!
LOCATION:
UID:e.2494.12548
SEQUENCE:3
DTSTAMP:20260424T213345Z
URL:https://business.safetyharborchamber.com/events/details/platinum-pt-ribbon-cutting-12548
END:VEVENT

END:VCALENDAR
