BEGIN:VCALENDAR
VERSION:2.0
PRODID:-//ChamberMaster//Event Calendar 2.0//EN
METHOD:PUBLISH
X-PUBLISHED-TTL:P3D
REFRESH-INTERVAL:P3D
CALSCALE:GREGORIAN
BEGIN:VEVENT
DTSTART;VALUE=DATE:20241101
DTEND;VALUE=DATE:20241102
TRANSP:TRANSPARENT
X-MICROSOFT-CDO-ALLDAYEVENT:TRUE
SUMMARY:Pet Supply Drive
DESCRIPTION:The Safety Harbor Public Library is hosting a pet supply drive during the month of November to support the Suncoast Animal League. The community is encouraged to donate essential items from the shelter's wish list\, including food\, bedding\, toys\, and care supplies. All donations will go directly to the Suncoast Animal League\, a local nonprofit dedicated to rescuing and rehoming animals in need. By contributing to the pet supply drive\, community members can help ensure that these furry friends have the resources they need to survive. Donations may be dropped off at the library during normal business hours November 1   30. For a list of specific items to donate visit www.SuncoastAnimalLeague.org/wishlist.
X-ALT-DESC;FMTTYPE=text/html:The Safety Harbor Public Library is hosting a pet supply drive during the month of November to support the Suncoast Animal League. The community is encouraged to donate essential items from the shelter&rsquo\;s wish list\, including food\, bedding\, toys\, and care supplies. All donations will go directly to the Suncoast Animal League\, a local nonprofit dedicated to rescuing and rehoming animals in need. By contributing to the pet supply drive\, community members can help ensure that these furry friends have the resources they need to survive. Donations may be dropped off at the library during normal business hours November 1 &ndash\; 30. For a list of specific items to donate visit www.SuncoastAnimalLeague.org/wishlist.
LOCATION:Safety Harbor Public Library\, 101 2nd St N\, Safety Harbor\, FL 34695
UID:e.2494.14617
SEQUENCE:3
DTSTAMP:20260421T071625Z
URL:https://business.safetyharborchamber.com/events/details/pet-supply-drive-14617
END:VEVENT

END:VCALENDAR
