BEGIN:VCALENDAR
VERSION:2.0
PRODID:-//ChamberMaster//Event Calendar 2.0//EN
METHOD:PUBLISH
X-PUBLISHED-TTL:P3D
REFRESH-INTERVAL:P3D
CALSCALE:GREGORIAN
BEGIN:VEVENT
DTSTART:20230114T150000Z
DTEND:20230114T180000Z
X-MICROSOFT-CDO-ALLDAYEVENT:FALSE
SUMMARY:Open House: Kadampa Meditation Center
DESCRIPTION:You are warmly invited to an Open House at Kadampa Meditation Center Tampa Bay. Stop by to meet the teachers and community\, tour the meditation shrine\, enjoy refreshments and snacks\, and participate in a free guided 15 minute meditation (10:30am\, 11:30am & 12:30am). You may also browse our bookstore\, see beautiful Buddhist art\, and ask questions about meditation and modern Buddhism. Everyone is welcome\, we would love to meet you!
X-ALT-DESC;FMTTYPE=text/html:You are warmly invited to an Open House at Kadampa Meditation Center Tampa Bay. Stop by to meet the teachers and community\, tour the meditation shrine\, enjoy refreshments and snacks\, and participate in a free guided 15 minute meditation (10:30am\, 11:30am &amp\; 12:30am). You may also browse our bookstore\, see beautiful Buddhist art\, and ask questions about meditation and modern Buddhism. Everyone is welcome\, we would love to meet you!
LOCATION:Kadampa Meditation Center Tampa Bay\, Sixth Avenue South\, Safety Harbor
UID:e.2494.12257
SEQUENCE:3
DTSTAMP:20260425T030742Z
URL:https://business.safetyharborchamber.com/events/details/open-house-kadampa-meditation-center-12257
END:VEVENT

END:VCALENDAR
