BEGIN:VCALENDAR
VERSION:2.0
PRODID:-//ChamberMaster//Event Calendar 2.0//EN
METHOD:PUBLISH
X-PUBLISHED-TTL:P3D
REFRESH-INTERVAL:P3D
CALSCALE:GREGORIAN
BEGIN:VEVENT
DTSTART:20220718T040000Z
DTEND:20220719T035500Z
X-MICROSOFT-CDO-ALLDAYEVENT:FALSE
SUMMARY:Oceans of Possibilities - Adult Summer Reading
DESCRIPTION:The Safety Harbor Public Library announces the annual Adult Summer Reading Program from June 6 to July 30. Adults\, 18 and up\, earn badges by exploring the library and Safety Harbor community\, by reading books and magazines\, streaming films\, and reviewing books for chances to win a prize every two weeks. The more badges completed\, the better the chance to win the grand prize\, a $200 Visa gift card. Register online at http://SafetyHarborLibrary.Beanstack.org or pick up a paper entry at the library.
X-ALT-DESC;FMTTYPE=text/html:The Safety Harbor Public Library announces the annual Adult Summer Reading Program from June 6 to July 30. Adults\, 18 and up\, earn badges by exploring the library and Safety Harbor community\, by reading books and magazines\, streaming films\, and reviewing books for chances to win a prize every two weeks. The more badges completed\, the better the chance to win the grand prize\, a $200 Visa gift card. Register online at http://SafetyHarborLibrary.Beanstack.org or pick up a paper entry at the library.
LOCATION:Safety Harbor Public Library\, 101 2nd St N\, Safety Harbor\, FL 34695
UID:e.2494.10924
SEQUENCE:3
DTSTAMP:20260425T112247Z
URL:https://business.safetyharborchamber.com/events/details/oceans-of-possibilities-adult-summer-reading-07-18-2022-10924
END:VEVENT

END:VCALENDAR
