BEGIN:VCALENDAR
VERSION:2.0
PRODID:-//ChamberMaster//Event Calendar 2.0//EN
METHOD:PUBLISH
X-PUBLISHED-TTL:P3D
REFRESH-INTERVAL:P3D
CALSCALE:GREGORIAN
BEGIN:VEVENT
DTSTART:20241114T210000Z
DTEND:20241114T220000Z
X-MICROSOFT-CDO-ALLDAYEVENT:FALSE
SUMMARY:Nonprofit Council Meeting
DESCRIPTION:Nonprofit Council Meetings are an opportunity for nonprofits to network\, collaborate and share resources. We will have monthly discussions on differing subjects and work together to make our community an even better place! This month we are thrilled to welcome Knack Marketing to discuss Nonprofit Marketing! Don't miss it!
X-ALT-DESC;FMTTYPE=text/html:<span style="font-size:22px\;">Nonprofit Council Meetings are an opportunity for nonprofits to network\, collaborate and share resources. We will have monthly discussions on differing subjects and work together to make our community an even better place! This month we are thrilled to welcome Knack Marketing to discuss Nonprofit Marketing! Don&#39\;t miss it!</span>
LOCATION:
UID:e.2494.13590
SEQUENCE:3
DTSTAMP:20260421T072226Z
URL:https://business.safetyharborchamber.com/events/details/nonprofit-council-meeting-11-11-2024-13590
END:VEVENT

END:VCALENDAR
