BEGIN:VCALENDAR
VERSION:2.0
PRODID:-//ChamberMaster//Event Calendar 2.0//EN
METHOD:PUBLISH
X-PUBLISHED-TTL:P3D
REFRESH-INTERVAL:P3D
CALSCALE:GREGORIAN
BEGIN:VEVENT
DTSTART:20230504T200000Z
DTEND:20230504T230000Z
X-MICROSOFT-CDO-ALLDAYEVENT:FALSE
SUMMARY:Non-Profit Volunteer Fair
DESCRIPTION:The Safety Harbor Public Library announces a Non-Profit Volunteer Fair on Thursday\, May 4 from 4:00   7:00 pm. Community members interested in learning about volunteer opportunities can meet with 20 Pinellas County organizations who are looking to recruit volunteers.
X-ALT-DESC;FMTTYPE=text/html:The Safety Harbor Public Library announces a Non-Profit Volunteer Fair on Thursday\, May 4 from 4:00 &ndash\; 7:00 pm. Community members interested in learning about volunteer opportunities can meet with 20 Pinellas County organizations who are looking to recruit volunteers.
LOCATION:Safety Harbor Public Library\, 101 2nd St N\, Safety Harbor\, FL 34695
UID:e.2494.12495
SEQUENCE:3
DTSTAMP:20260424T213740Z
URL:https://business.safetyharborchamber.com/events/details/non-profit-volunteer-fair-05-04-2023-12495
END:VEVENT

END:VCALENDAR
