BEGIN:VCALENDAR
VERSION:2.0
PRODID:-//ChamberMaster//Event Calendar 2.0//EN
METHOD:PUBLISH
X-PUBLISHED-TTL:P3D
REFRESH-INTERVAL:P3D
CALSCALE:GREGORIAN
BEGIN:VEVENT
DTSTART:20230314T210000Z
DTEND:20230314T220000Z
X-MICROSOFT-CDO-ALLDAYEVENT:FALSE
SUMMARY:Non-Profit Council
DESCRIPTION:Non-Profit Council\n\nA meet up for Leaders of Safety Harbor Chamber's non-profits to network\, cooperate\, collaborate\, and exchange ideas to improve the lives of those that they serve.
X-ALT-DESC;FMTTYPE=text/html:<span style="font-family: Arial\, sans-serif\; background-color: rgba(255\, 255\, 255\, 0.94)\;"><u>Non-Profit Council</u><br />\nA meet up for Leaders of Safety Harbor Chamber&#39\;s non-profits to&nbsp\;</span><span style="box-sizing: content-box\; inset: auto\; clear: none\; content: normal\; direction: inherit\; empty-cells: show\; font-variant-numeric: inherit\; font-variant-east-asian: inherit\; font-stretch: inherit\; line-height: inherit\; margin: 0px\; max-height: none\; max-width: none\; min-height: initial\; min-width: initial\; opacity: 1\; outline-offset: 0px\; overflow: visible\; padding: 0px\; position: static\; resize: none\; table-layout: auto\; text-overflow: clip\; vertical-align: baseline\; visibility: inherit\; word-break: inherit\; overflow-wrap: inherit\; z-index: auto\; background-image: none\; background-position: initial\; background-size: initial\; background-repeat: initial\; background-attachment: initial\; background-origin: initial\; background-clip: initial\; border-width: initial\; border-style: none\; border-color: initial\; border-collapse: separate\; border-image: none 100% 1 0 / 1 / 0 stretch\; border-radius: 0px\; height: auto\; width: auto\; box-shadow: none\;">network\, cooperate\, collaborate\, and exchange ideas to improve the lives of those that they serve.&nbsp\;&nbsp\;</span>
LOCATION:TBC
UID:e.2494.12482
SEQUENCE:3
DTSTAMP:20260424T225501Z
URL:https://business.safetyharborchamber.com/events/details/non-profit-council-12482
END:VEVENT

END:VCALENDAR
