BEGIN:VCALENDAR
VERSION:2.0
PRODID:-//ChamberMaster//Event Calendar 2.0//EN
METHOD:PUBLISH
X-PUBLISHED-TTL:P3D
REFRESH-INTERVAL:P3D
CALSCALE:GREGORIAN
BEGIN:VEVENT
DTSTART:20230117T223000Z
DTEND:20230117T233000Z
X-MICROSOFT-CDO-ALLDAYEVENT:FALSE
SUMMARY:MOSH Meeting
DESCRIPTION:ALL DOWNTOWN MERCHANTS!\n\nBe involved in the planning of events and marketing for our downtown.\n\nThis month we will have City Manager Matt Spoor in attendance for city updates and Q&A. \n\n\n\nMission:  The Merchants of Safety Harbor (MOSH) committee of the Chamber brings awareness\, business and traffic to downtown Safety Harbor through advertising and promotion\, advocacy for its merchants and maintaining its beauty and small town feel.
X-ALT-DESC;FMTTYPE=text/html:<strong><span style="background:white\;"><span style="color:mediumblue\;"><span style="font-family:verdana\,sans-serif\;"><span style="font-size:10.5pt\;">ALL DOWNTOWN MERCHANTS!</span></span></span></span></strong><br />\n<strong><span style="background:white\;"><span style="color:mediumblue\;"><span style="font-family:verdana\,sans-serif\;"><span style="font-size:10.5pt\;"><strong><span style="font-family:verdana\,sans-serif\;">Be involved in the planning of events and marketing for our downtown.</span></strong></span></span></span></span></strong><br />\n<span style="font-size:16px\;"><strong><span style="color:#FF0000\;">This month we will have City Manager Matt Spoor in attendance for city updates and Q&amp\;A.&nbsp\;</span></strong></span><br />\n<br style="font-variant-ligatures:normal\;font-variant-caps:normal\;orphans:2\;text-align:start\;widows:2\;-webkit-text-stroke-width:0px\;text-decoration-thickness:initial\;text-decoration-style:initial\;word-spacing:0px\;" />\n<span style="color:#333333\;"><span style="font-family:verdana\,sans-serif\;"><span style="font-size:10.5pt\;"><strong style="font-variant-ligatures:normal\;font-variant-caps:normal\;orphans:2\;text-align:start\;widows:2\;-webkit-text-stroke-width:0px\;text-decoration-thickness:initial\;text-decoration-style:initial\;word-spacing:0px\;"><span style="background:white\;"><span style="font-family:verdana\,sans-serif\;">Mission:&nbsp\; The Merchants of Safety Harbor (MOSH) committee of the Chamber brings awareness\, business and traffic to downtown Safety Harbor through advertising and promotion\, advocacy for its merchants and maintaining its beauty and small town feel.</span></span></strong></span></span></span>
LOCATION:Safety Harbor Chamber of Commerce Conference Room 200 Main Street
UID:e.2494.9614
SEQUENCE:3
DTSTAMP:20260425T014635Z
URL:https://business.safetyharborchamber.com/events/details/mosh-meeting-01-03-2023-9614
END:VEVENT

END:VCALENDAR
