BEGIN:VCALENDAR
VERSION:2.0
PRODID:-//ChamberMaster//Event Calendar 2.0//EN
METHOD:PUBLISH
X-PUBLISHED-TTL:P3D
REFRESH-INTERVAL:P3D
CALSCALE:GREGORIAN
BEGIN:VEVENT
DTSTART:20230103T130000Z
DTEND:20230103T140000Z
X-MICROSOFT-CDO-ALLDAYEVENT:FALSE
SUMMARY:Member Mornings
DESCRIPTION:Start the new year off right! Coffee and networking 8-9am\n\nOverview of membership benefits 9am\n\nThis is a great opportunity to connect with other members\, and also to get to know Chamber staff. Staff will be available at 9am to answer any membership questions and help maximize your profile and benefits\n\n\n\nSponsorship opportunities available - contact the Chamber.
X-ALT-DESC;FMTTYPE=text/html:<span style="color:#0000FF\;"><span style="font-size:14px\;"><strong>Start the new year off right!</strong></span>&nbsp\;<span style="font-size:14px\;"><strong>Coffee and networking 8-9am</strong></span></span><br />\nOverview of membership benefits 9am<br />\nThis is a great opportunity to connect with other members\, and also to get to know Chamber staff. Staff will be available at 9am to answer any membership questions and help maximize your profile and benefits<br />\n<br />\nSponsorship opportunities available - contact the Chamber.&nbsp\;&nbsp\;
LOCATION:Safety Harbor Chamber of Commerce 200 Main St Safety Harbor
UID:e.2494.10743
SEQUENCE:3
DTSTAMP:20260425T030537Z
URL:https://business.safetyharborchamber.com/events/details/member-mornings-01-03-2023-10743
END:VEVENT

END:VCALENDAR
