BEGIN:VCALENDAR
VERSION:2.0
PRODID:-//ChamberMaster//Event Calendar 2.0//EN
METHOD:PUBLISH
X-PUBLISHED-TTL:P3D
REFRESH-INTERVAL:P3D
CALSCALE:GREGORIAN
BEGIN:VEVENT
DTSTART:20220303T233000Z
DTEND:20220304T010000Z
X-MICROSOFT-CDO-ALLDAYEVENT:FALSE
SUMMARY:Meet New York Times Bestselling Author - Sarah Penner
DESCRIPTION:Meet Sarah Penner\, author of the New York Times and international bestseller\, "The Lost Apothecary"\, on Thursday\, March 3\, 6:30 PM at the Safety Harbor Public Library. First time author Sarah Penner will discuss her book\, her writing process\, and how she went from an employee in corporate America to a best-selling author with her bestselling debut novel. A book signing will follow the program. This event is free. Beverages will be available for donation. Copies of "The Lost Apothecary" are available for sale prior to the event at Portkey Books\, Safety Harbor's independent bookstore located at 404 Main Street or online at portkeybooks.com. Books will also be available for sale at the event. Paperback copies can be pre-ordered. The event is sponsored by the Safety Harbor Library Foundation and Portkey Books. The Safety Harbor Library is located at 101 2nd Street N. Safety Harbor\, FL. For more information on the event\, visit http://safetyharborlibrary.com/ For information on purchasing books prior to the event\, call Portkey Books\, 727-248-0211 or visit their website.
X-ALT-DESC;FMTTYPE=text/html:Meet Sarah Penner\, author of the New York Times and international bestseller\, &quot\;The Lost Apothecary&quot\;\, on Thursday\, March 3\, 6:30 PM at the Safety Harbor Public Library. First time author Sarah Penner will discuss her book\, her writing process\, and how she went from an employee in corporate America to a best-selling author with her bestselling debut novel. A book signing will follow the program. This event is free. Beverages will be available for donation. Copies of &quot\;The Lost Apothecary&quot\; are available for sale prior to the event at Portkey Books\, Safety Harbor&rsquo\;s independent bookstore located at 404 Main Street or online at portkeybooks.com. Books will also be available for sale at the event. Paperback copies can be pre-ordered. The event is sponsored by the Safety Harbor Library Foundation and Portkey Books. The Safety Harbor Library is located at 101 2nd Street N. Safety Harbor\, FL. For more information on the event\, visit http://safetyharborlibrary.com/ For information on purchasing books prior to the event\, call Portkey Books\, 727-248-0211 or visit their website.
LOCATION:Safety Harbor Public Library
UID:e.2494.10725
SEQUENCE:3
DTSTAMP:20260425T155157Z
URL:https://business.safetyharborchamber.com/events/details/meet-new-york-times-bestselling-author-sarah-penner-10725
END:VEVENT

END:VCALENDAR
