BEGIN:VCALENDAR
VERSION:2.0
PRODID:-//ChamberMaster//Event Calendar 2.0//EN
METHOD:PUBLISH
X-PUBLISHED-TTL:P3D
REFRESH-INTERVAL:P3D
CALSCALE:GREGORIAN
BEGIN:VEVENT
DTSTART:20221202T123000Z
DTEND:20221202T143000Z
X-MICROSOFT-CDO-ALLDAYEVENT:FALSE
SUMMARY:Mayors' Breakfast
DESCRIPTION:Mayors' Breakfast\n\n \n\nFriday\, December 2\, 7:30am\n\nCountryside Country Club\n\n \n\nJoin us for\n\na morning of fun & friendship and a Christmas Tree Auction\n\n hosted by\n\nMayor Joe Ayoub\,\n\nSafety Harbor Mayor\n\n&\n\nDan Saracki\,\n\nOldsmar Mayor\n\n \n\nTICKETS: $30\n\nTable Sponsorships start at $300\n\nTickets available at Safety Harbor City Hall\, Chamber of Commerce\,\n\nNeighborhood Family Center\, MWNFC.org\n\n \n\nFor more info\, 727-791-8255\n\ndhusband@mwnfc.org\n\nYour donations help provide holiday meals & gifts to needy children & families in our communities
X-ALT-DESC;FMTTYPE=text/html:<div align="center" style="color: rgb(10\, 40\, 122)\; font-family: Arial\, Verdana\, Helvetica\, sans-serif\; font-size: 14px\; background-color: rgb(255\, 255\, 255)\; text-align: center\;"><span style="font-size: 24px\; color: rgb(232\, 21\, 21)\; font-weight: bold\;">Mayors&#39\; Breakfast</span></div>\n\n<div align="center" style="color: rgb(10\, 40\, 122)\; font-family: Arial\, Verdana\, Helvetica\, sans-serif\; font-size: 14px\; background-color: rgb(255\, 255\, 255)\; text-align: center\;">&nbsp\;</div>\n\n<div align="center" style="color: rgb(10\, 40\, 122)\; font-family: Arial\, Verdana\, Helvetica\, sans-serif\; font-size: 14px\; background-color: rgb(255\, 255\, 255)\; text-align: center\;"><span style="font-size: 20px\; color: rgb(232\, 21\, 21)\;">Friday\, December 2\, 7:30am</span></div>\n\n<div align="center" style="color: rgb(10\, 40\, 122)\; font-family: Arial\, Verdana\, Helvetica\, sans-serif\; font-size: 14px\; background-color: rgb(255\, 255\, 255)\; text-align: center\;"><span style="font-size: 20px\; color: rgb(232\, 21\, 21)\;">Countryside Country Club</span></div>\n\n<div align="center" style="color: rgb(10\, 40\, 122)\; font-family: Arial\, Verdana\, Helvetica\, sans-serif\; font-size: 14px\; background-color: rgb(255\, 255\, 255)\; text-align: center\;">&nbsp\;</div>\n\n<div align="center" style="color: rgb(10\, 40\, 122)\; font-family: Arial\, Verdana\, Helvetica\, sans-serif\; font-size: 14px\; background-color: rgb(255\, 255\, 255)\; text-align: center\;"><span style="font-size: 16px\; color: rgb(232\, 21\, 21)\;">Join us for</span></div>\n\n<div align="center" style="color: rgb(10\, 40\, 122)\; font-family: Arial\, Verdana\, Helvetica\, sans-serif\; font-size: 14px\; background-color: rgb(255\, 255\, 255)\; text-align: center\;"><span style="font-size: 16px\; color: rgb(232\, 21\, 21)\;">a morning of fun &amp\; friendship and a Christmas Tree Auction</span></div>\n\n<div align="center" style="color: rgb(10\, 40\, 122)\; font-family: Arial\, Verdana\, Helvetica\, sans-serif\; font-size: 14px\; background-color: rgb(255\, 255\, 255)\; text-align: center\;"><span style="font-size: 16px\; color: rgb(232\, 21\, 21)\;">&#65279\;hosted by</span></div>\n\n<div align="center" style="color: rgb(10\, 40\, 122)\; font-family: Arial\, Verdana\, Helvetica\, sans-serif\; font-size: 14px\; background-color: rgb(255\, 255\, 255)\; text-align: center\;"><span style="font-size: 16px\; color: rgb(232\, 21\, 21)\; font-style: italic\;">Mayor Joe Ayoub\,</span></div>\n\n<div align="center" style="color: rgb(10\, 40\, 122)\; font-family: Arial\, Verdana\, Helvetica\, sans-serif\; font-size: 14px\; background-color: rgb(255\, 255\, 255)\; text-align: center\;"><span style="font-size: 16px\; color: rgb(232\, 21\, 21)\; font-style: italic\;">Safety Harbor Mayor</span></div>\n\n<div align="center" style="color: rgb(10\, 40\, 122)\; font-family: Arial\, Verdana\, Helvetica\, sans-serif\; font-size: 14px\; background-color: rgb(255\, 255\, 255)\; text-align: center\;"><span style="font-size: 16px\; color: rgb(232\, 21\, 21)\; font-style: italic\;">&amp\;</span></div>\n\n<div align="center" style="color: rgb(10\, 40\, 122)\; font-family: Arial\, Verdana\, Helvetica\, sans-serif\; font-size: 14px\; background-color: rgb(255\, 255\, 255)\; text-align: center\;"><span style="font-size: 16px\; color: rgb(232\, 21\, 21)\; font-style: italic\;">Dan Saracki\,</span></div>\n\n<div align="center" style="color: rgb(10\, 40\, 122)\; font-family: Arial\, Verdana\, Helvetica\, sans-serif\; font-size: 14px\; background-color: rgb(255\, 255\, 255)\; text-align: center\;"><span style="font-size: 16px\; color: rgb(232\, 21\, 21)\; font-style: italic\;">Oldsmar Mayor</span></div>\n\n<div align="center" style="color: rgb(10\, 40\, 122)\; font-family: Arial\, Verdana\, Helvetica\, sans-serif\; font-size: 14px\; background-color: rgb(255\, 255\, 255)\; text-align: center\;">&nbsp\;</div>\n\n<div align="center" style="color: rgb(10\, 40\, 122)\; font-family: Arial\, Verdana\, Helvetica\, sans-serif\; font-size: 14px\; background-color: rgb(255\, 255\, 255)\; text-align: center\;"><span style="font-size: 16px\; color: rgb(232\, 21\, 21)\; font-weight: bold\;">TICKETS: $30</span></div>\n\n<div align="center" style="color: rgb(10\, 40\, 122)\; font-family: Arial\, Verdana\, Helvetica\, sans-serif\; font-size: 14px\; background-color: rgb(255\, 255\, 255)\; text-align: center\;"><span style="font-size: 16px\; color: rgb(232\, 21\, 21)\;">Table Sponsorships start at $300<br />\nTickets available at Safety Harbor City Hall\, Chamber of Commerce\,<br />\nNeighborhood Family Center\, MWNFC.org</span></div>\n\n<div align="center" style="color: rgb(10\, 40\, 122)\; font-family: Arial\, Verdana\, Helvetica\, sans-serif\; font-size: 14px\; background-color: rgb(255\, 255\, 255)\; text-align: center\;">&nbsp\;</div>\n\n<div align="center" style="color: rgb(10\, 40\, 122)\; font-family: Arial\, Verdana\, Helvetica\, sans-serif\; font-size: 14px\; background-color: rgb(255\, 255\, 255)\; text-align: center\;"><span style="font-size: 16px\; color: rgb(232\, 21\, 21)\;">For more info\, 727-791-8255</span></div>\n\n<div align="center" style="color: rgb(10\, 40\, 122)\; font-family: Arial\, Verdana\, Helvetica\, sans-serif\; font-size: 14px\; background-color: rgb(255\, 255\, 255)\; text-align: center\;"><span style="font-size: 16px\; color: rgb(232\, 21\, 21)\;">dhusband@mwnfc.org</span><br />\n<span style="color:#000000\;"><span style="font-size: 16px\;">Your donations help&nbsp\;provide holiday meals &amp\; gifts to needy children &amp\; families in our communities</span></span><br />\n&nbsp\;</div>\n
LOCATION:Countryside Country Club
UID:e.2494.12238
SEQUENCE:3
DTSTAMP:20260425T030409Z
URL:https://business.safetyharborchamber.com/events/details/mayors-breakfast-12238
END:VEVENT

END:VCALENDAR
