BEGIN:VCALENDAR
VERSION:2.0
PRODID:-//ChamberMaster//Event Calendar 2.0//EN
METHOD:PUBLISH
X-PUBLISHED-TTL:P3D
REFRESH-INTERVAL:P3D
CALSCALE:GREGORIAN
BEGIN:VEVENT
DTSTART:20230120T000000Z
DTEND:20230120T020000Z
X-MICROSOFT-CDO-ALLDAYEVENT:FALSE
SUMMARY:Jazz\, Blues\, & Beyond: Concert with Terez Firewoman & Friends
DESCRIPTION:Swing in the new year with Terez Firewoman & Friends featuring classic and modern jazz numbers at the Safety Harbor Public Library\, Thursday\, January 19\, 7:00 pm. Terez Firewoman's signature vocal and performance style is influenced by various artists and genres giving her an energetic style with the fire of rock-n-roll\, raw expressiveness of R & B and soul\, and the varied textures of jazz\, providing musical 'Fire' to ignite your soul. Beverages available by donation to support the Safety Harbor Public Library Foundation.
X-ALT-DESC;FMTTYPE=text/html:Swing in the new year with Terez Firewoman &amp\; Friends featuring classic and modern jazz numbers at the Safety Harbor Public Library\, Thursday\, January 19\, 7:00 pm. Terez Firewoman&#39\;s signature vocal and performance style is influenced by various artists and genres giving her an energetic style with the fire of rock-n-roll\, raw expressiveness of R &amp\; B and soul\, and the varied textures of jazz\, providing musical &lsquo\;Fire&rsquo\; to ignite your soul. Beverages available by donation to support the Safety Harbor Public Library Foundation.
LOCATION:Safety Harbor Public Library\, 101 2nd St N\, Safety Harbor\, FL 34695
UID:e.2494.12253
SEQUENCE:3
DTSTAMP:20260425T031028Z
URL:https://business.safetyharborchamber.com/events/details/jazz-blues-beyond-concert-with-terez-firewoman-friends-12253
END:VEVENT

END:VCALENDAR
