BEGIN:VCALENDAR
VERSION:2.0
PRODID:-//ChamberMaster//Event Calendar 2.0//EN
METHOD:PUBLISH
X-PUBLISHED-TTL:P3D
REFRESH-INTERVAL:P3D
CALSCALE:GREGORIAN
BEGIN:VEVENT
DTSTART:20220817T223000Z
DTEND:20220817T233000Z
X-MICROSOFT-CDO-ALLDAYEVENT:FALSE
SUMMARY:Intro to Guitar & Bass with Topher Nolen
DESCRIPTION:Intro to Guitar & Bass: Wednesday\, August 17\, 6:30 pm. Guitar Bass basics with instructor Topher Nolen. A Nashville musician with 30 plus years of studio\, touring\, teaching\, and songwriting experience. Bring your own guitar for some players tips or just enjoy the sounds of the Guitar & Bass! A family friendly program. Sponsored by the Friends of the Safety Harbor Public Library.
X-ALT-DESC;FMTTYPE=text/html:Intro to Guitar &amp\; Bass: Wednesday\, August 17\, 6:30 pm. Guitar Bass basics with instructor Topher Nolen. A Nashville musician with 30 plus years of studio\, touring\, teaching\, and songwriting experience. Bring your own guitar for some players tips or just enjoy the sounds of the Guitar &amp\; Bass! A family friendly program. Sponsored by the Friends of the Safety Harbor Public Library.
LOCATION:Safety Harbor Public Library\, 101 2nd Street N.\, Safety Harbor\, FL 34695
UID:e.2494.11321
SEQUENCE:3
DTSTAMP:20260425T103247Z
URL:https://business.safetyharborchamber.com/events/details/intro-to-guitar-bass-with-topher-nolen-11321
END:VEVENT

END:VCALENDAR
