BEGIN:VCALENDAR
VERSION:2.0
PRODID:-//ChamberMaster//Event Calendar 2.0//EN
METHOD:PUBLISH
X-PUBLISHED-TTL:P3D
REFRESH-INTERVAL:P3D
CALSCALE:GREGORIAN
BEGIN:VEVENT
DTSTART:20221202T220000Z
DTEND:20221203T020000Z
X-MICROSOFT-CDO-ALLDAYEVENT:FALSE
SUMMARY:Holiday Sip n Shop 2022
DESCRIPTION:Please join us to celebrate the season and enjoy our beautiful downtown! \n\n	Shopping & Sipping Specials start at 5:00pm\n	Gazebo Festivities start at 6:00 - choirs\, tree lighting\, & a visit from Santa\n	Dickens Carolers on Main Street 6-9pm\n	"Wrap it Up at the Chamber" -- self-serve wrapping station all weekend\n	Shopping continues until 9:00pm\n	Sipping at your favorite downtown watering hole until ?\n	Shop for gifts at the Visitor Center. Open until 8:00pm\n	Make sure to bring your receipts to the Visitors Center to be entered to win some fabulous prizes!
X-ALT-DESC;FMTTYPE=text/html:Please join us to celebrate the season and enjoy our beautiful downtown!&nbsp\;\n<ul>\n	<li>Shopping &amp\; Sipping Specials start at 5:00pm</li>\n	<li>Gazebo Festivities start at 6:00 - choirs\, tree lighting\, &amp\; a visit from Santa</li>\n	<li>Dickens Carolers on Main Street 6-9pm</li>\n	<li>&quot\;Wrap it Up at the Chamber&quot\; -- self-serve wrapping station all weekend</li>\n	<li>Shopping continues until 9:00pm</li>\n	<li>Sipping at your favorite downtown watering hole until ?</li>\n	<li>Shop for gifts at the Visitor Center. Open until 8:00pm</li>\n	<li>Make sure to bring your receipts to the Visitors Center to be entered to win some fabulous prizes!</li>\n</ul>\n
LOCATION:Main Street Safety Harbor
UID:e.2494.12012
SEQUENCE:3
DTSTAMP:20260425T030838Z
URL:https://business.safetyharborchamber.com/events/details/holiday-sip-n-shop-2022-12012
END:VEVENT

END:VCALENDAR
