BEGIN:VCALENDAR
VERSION:2.0
PRODID:-//ChamberMaster//Event Calendar 2.0//EN
METHOD:PUBLISH
X-PUBLISHED-TTL:P3D
REFRESH-INTERVAL:P3D
CALSCALE:GREGORIAN
BEGIN:VEVENT
DTSTART:20221207T203000Z
DTEND:20221207T223000Z
X-MICROSOFT-CDO-ALLDAYEVENT:FALSE
SUMMARY:Holiday Magic and Mingle - Pinellas
DESCRIPTION:Hero To A Child is proud to welcome you to come network and mingle with amazing businesses throughout the community! At this networking event\, you will also get an inside look into how Hero To A Child\, in conjunction with community partners\, makes the holidays magical for hundreds of abused\, abandoned\, and neglected children in our community who have been removed from their homes to no fault of their own.\n\n\n\nJoin us and leave with your heart full for the holiday!  Please RSVP at https://www.eventbrite.com/e/holiday-magic-and-mingle-pinellas-tickets-445523632177\n\n\n\nThis event is free. However\, if you wish to support our holiday drive\, you are welcome to bring a gift or toiletry for the many teens that are in need. For more information about the Hero To A Child Holiday Magic Program please visit https://herotoachild.org/holiday-magic/\n\n\n\nThank you to Sam's Club\, Pinellas Park\, our food and beverage sponsor for this event. Sam's will be onsite at the event hosting a membership drive.
X-ALT-DESC;FMTTYPE=text/html:<p>Hero To A Child is proud to welcome you to come network and mingle with amazing businesses throughout the community! At this networking event\, you will also get an inside look into how Hero To A Child\, in conjunction with community partners\, makes the holidays magical for hundreds of abused\, abandoned\, and neglected children in our community who have been removed from their homes to no fault of their own.<br />\n<br />\nJoin us and leave with your heart full for the holiday! &nbsp\;Please RSVP at&nbsp\;<a href="https://www.eventbrite.com/e/holiday-magic-and-mingle-pinellas-tickets-445523632177">https://www.eventbrite.com/e/holiday-magic-and-mingle-pinellas-tickets-445523632177</a><br />\n<br />\nThis event is free. However\, if you wish to support our holiday drive\, you are welcome to bring a gift or toiletry for the many teens that are in need. For more information about the Hero To A Child Holiday Magic Program please visit&nbsp\;<a href="https://herotoachild.org/holiday-magic/">https://herotoachild.org/holiday-magic/</a><br />\n<br />\nThank you to Sam&#39\;s Club\, Pinellas Park\, our food and beverage sponsor for this event. Sam&#39\;s will be onsite at the event hosting a membership drive.</p>\n
LOCATION:Epi Center at SPC 13805 58th St. N\, RM 1 - 453 Clearwater\, FL 33760
UID:e.2494.12121
SEQUENCE:3
DTSTAMP:20260425T030503Z
URL:https://business.safetyharborchamber.com/events/details/holiday-magic-and-mingle-pinellas-12121
END:VEVENT

END:VCALENDAR
