BEGIN:VCALENDAR
VERSION:2.0
PRODID:-//ChamberMaster//Event Calendar 2.0//EN
METHOD:PUBLISH
X-PUBLISHED-TTL:P3D
REFRESH-INTERVAL:P3D
CALSCALE:GREGORIAN
BEGIN:VEVENT
DTSTART:20221213T170000Z
DTEND:20221213T180000Z
X-MICROSOFT-CDO-ALLDAYEVENT:FALSE
SUMMARY:Holiday Luncheon at the Chamber
DESCRIPTION:This month's Luncheon will be our Holiday Luncheon at the Safety Harbor Chamber. Join us for networking with members\, tasty food provided by the Stuffed Mushroom.  Members\, bring your business cards to restock our business card display.\n\n\n\nGuests welcome and a great opportunity to experience one of our chamber events.\n\n\n\nPLEASE RSVP BY DECEMBER 7th
X-ALT-DESC;FMTTYPE=text/html:This month&#39\;s Luncheon will be our Holiday Luncheon at the Safety Harbor Chamber. Join us for networking with members\, tasty food provided by the Stuffed Mushroom.&nbsp\; Members\, bring your business cards to restock our business card display.<br />\n<br />\nGuests welcome and a great opportunity to experience one of our chamber events.<br />\n<br />\nPLEASE RSVP BY DECEMBER 7th<br />\n&nbsp\;
LOCATION:Safety Harbor Chamber Conference Room 200 Main Street\, Safety Harbor
UID:e.2494.12002
SEQUENCE:3
DTSTAMP:20260425T030838Z
URL:https://business.safetyharborchamber.com/events/details/holiday-luncheon-at-the-chamber-12002
END:VEVENT

END:VCALENDAR
