BEGIN:VCALENDAR
VERSION:2.0
PRODID:-//ChamberMaster//Event Calendar 2.0//EN
METHOD:PUBLISH
X-PUBLISHED-TTL:P3D
REFRESH-INTERVAL:P3D
CALSCALE:GREGORIAN
BEGIN:VEVENT
DTSTART:20221211T140000Z
DTEND:20221211T210000Z
X-MICROSOFT-CDO-ALLDAYEVENT:FALSE
SUMMARY:Holiday Art & Crafts Show
DESCRIPTION:Annual Holiday Arts & Crafts Show sponsored by Kiwanis Club of Safety Harbor. Hundreds of local artists and food vendors line Main Street with unique art and merchandise. Perfect time to buy that special holiday gift.
X-ALT-DESC;FMTTYPE=text/html:Annual Holiday Arts &amp\; Crafts Show sponsored by Kiwanis Club of Safety Harbor. Hundreds of local artists and food vendors line Main Street with unique art and merchandise. Perfect time to buy that special holiday gift.
LOCATION:Main Street\, Safety Harbor
UID:e.2494.10906
SEQUENCE:3
DTSTAMP:20260425T030657Z
URL:https://business.safetyharborchamber.com/events/details/holiday-art-crafts-show-10906
END:VEVENT

END:VCALENDAR
