BEGIN:VCALENDAR
VERSION:2.0
PRODID:-//ChamberMaster//Event Calendar 2.0//EN
METHOD:PUBLISH
X-PUBLISHED-TTL:P3D
REFRESH-INTERVAL:P3D
CALSCALE:GREGORIAN
BEGIN:VEVENT
DTSTART:20210713T220000Z
DTEND:20210713T233000Z
X-MICROSOFT-CDO-ALLDAYEVENT:FALSE
SUMMARY:Harbor Exchange Meeting
DESCRIPTION:We meet every 2nd and 4th Tuesdays all year long. We are meeting at the VFW or Zoom for our meetings at 6:00 for social and meeting starts at 6:30 -7:30. \n\nVFW Location - 965 Harbor Lake Ct\, Safety Harbor\, FL 34695
X-ALT-DESC;FMTTYPE=text/html:<span style="font-size:16px\;"><span style="font-family:times new roman\;"><span style="color: rgb(51\, 51\, 51)\;">We meet every 2<sup>nd</sup>&nbsp\;and 4<sup>th</sup>&nbsp\;Tuesdays all year long.</span><span style="color: rgb(51\, 51\, 51)\; background-color: rgb(255\, 255\, 255)\;">&nbsp\;</span><span style="color: rgb(51\, 51\, 51)\;">W</span><span style="color: rgb(51\, 51\, 51)\;">e are meeting at the VFW or Zoom for our meetings at 6:00 for social and meeting starts at 6:30 -7:30.&nbsp\;</span><br style="color: rgb(51\, 51\, 51)\; font-family: sans-serif\, Arial\, Verdana\, &quot\;Trebuchet MS&quot\;\; font-size: 13px\;" />\n<span style="color: rgb(51\, 51\, 51)\;">VFW Location -&nbsp\;</span><span style="color: rgb(51\, 51\, 51)\;">965 Harbor Lake Ct\, Safety Harbor\, FL 34695</span><span style="color: rgb(51\, 51\, 51)\; background-color: rgb(255\, 255\, 255)\;">&nbsp\;</span><br style="color: rgb(51\, 51\, 51)\; font-family: sans-serif\, Arial\, Verdana\, &quot\;Trebuchet MS&quot\;\; font-size: 13px\;" />\n<span style="color: rgb(51\, 51\, 51)\;">&nbsp\;</span></span></span>
LOCATION:VFW Location - 965 Harbor Lake Ct\, Safety Harbor\, FL 34695
UID:e.2494.9165
SEQUENCE:3
DTSTAMP:20260426T041754Z
URL:https://business.safetyharborchamber.com/events/details/harbor-exchange-meeting-07-13-2021-9165
END:VEVENT

END:VCALENDAR
