BEGIN:VCALENDAR
VERSION:2.0
PRODID:-//ChamberMaster//Event Calendar 2.0//EN
METHOD:PUBLISH
X-PUBLISHED-TTL:P3D
REFRESH-INTERVAL:P3D
CALSCALE:GREGORIAN
BEGIN:VEVENT
DTSTART:20220518T213000Z
DTEND:20220518T230000Z
X-MICROSOFT-CDO-ALLDAYEVENT:FALSE
SUMMARY:Happy Hour Connections @ Troubled Waters Brewery
DESCRIPTION:We are a group of Safety Harbor Chamber members who like to connect and grow our businesses. We meet informally monthly to get to know each other and what we do.  Guests are welcome.  Cash bar\n\nBusiness card drawing for a free drink!
X-ALT-DESC;FMTTYPE=text/html:<span style="background:white\;"><span style="font-family:helvetica\,sans-serif\;">We are a group of Safety Harbor Chamber members who like to connect and grow our businesses. We meet informally&nbsp\;</span><span style="font-family: helvetica\, sans-serif\;">monthly&nbsp\;</span><span style="font-family:helvetica\,sans-serif\;">to get to know each other and what we do. &nbsp\;Guests are welcome. &nbsp\;Cash bar<br />\nBusiness card drawing for a free drink!</span></span>
LOCATION:Location rotates each month. This month we are meeting at Troubled Waters Brewery 670 Main St Safety Harbor
UID:e.2494.2764
SEQUENCE:3
DTSTAMP:20260425T125143Z
URL:https://business.safetyharborchamber.com/events/details/happy-hour-connections-troubled-waters-brewery-2764
END:VEVENT

END:VCALENDAR
