BEGIN:VCALENDAR
VERSION:2.0
PRODID:-//ChamberMaster//Event Calendar 2.0//EN
METHOD:PUBLISH
X-PUBLISHED-TTL:P3D
REFRESH-INTERVAL:P3D
CALSCALE:GREGORIAN
BEGIN:VEVENT
DTSTART:20220720T213000Z
DTEND:20220720T230000Z
X-MICROSOFT-CDO-ALLDAYEVENT:FALSE
SUMMARY:Happy Hour Connections @ Tiki Tavern
DESCRIPTION:We are a group of Safety Harbor Chamber members who like to connect and grow our businesses. We meet informally monthly to get to know each other and what we do. Guests are welcome.  Cash bar\,\n\nbusiness card drawing for a free drink!
X-ALT-DESC;FMTTYPE=text/html:<span style="background:white\;"><span style="font-family:helvetica\,sans-serif\;">We are a group of Safety Harbor Chamber members who like to connect and grow our businesses. We meet informally&nbsp\;</span><span style="font-family: helvetica\, sans-serif\;">monthly&nbsp\;</span><span style="font-family:helvetica\,sans-serif\;">to get to know each other and what we do. Guests are welcome. &nbsp\;Cash bar\,<br />\nbusiness card drawing for a free drink!</span></span>
LOCATION:The Tiki Tavern 201 Main Street Safety Harbor
UID:e.2494.2766
SEQUENCE:3
DTSTAMP:20260425T111855Z
URL:https://business.safetyharborchamber.com/events/details/happy-hour-connections-tiki-tavern-2766
END:VEVENT

END:VCALENDAR
