BEGIN:VCALENDAR
VERSION:2.0
PRODID:-//ChamberMaster//Event Calendar 2.0//EN
METHOD:PUBLISH
X-PUBLISHED-TTL:P3D
REFRESH-INTERVAL:P3D
CALSCALE:GREGORIAN
BEGIN:VEVENT
DTSTART:20221214T223000Z
DTEND:20221215T000000Z
X-MICROSOFT-CDO-ALLDAYEVENT:FALSE
SUMMARY:Happy Hour Connections @ Rocking Delicious
DESCRIPTION:Join us for holiday networking fun at Rocking Delicious! Santa will be there along with Image Premiere Photography until 6pm\, and we will have truffle tastings\, beer and wine from 5:30-7pm! Make valuable connections with other member businesses (and maybe get some Christmas shopping done while you're at it!)! Guests welcome.
X-ALT-DESC;FMTTYPE=text/html:<font face="helvetica\, sans-serif">Join us for holiday networking fun at Rocking Delicious! Santa will be there along with Image Premiere Photography until 6pm\, and we will have truffle tastings\, beer and wine from 5:30-7pm! Make valuable connections with other member businesses (and maybe get some Christmas shopping done while you&#39\;re at it!)! Guests welcome.</font>
LOCATION:Rocking Delicious 101 Main Street Safety Harbor
UID:e.2494.2771
SEQUENCE:3
DTSTAMP:20260425T042630Z
URL:https://business.safetyharborchamber.com/events/details/happy-hour-connections-rocking-delicious-2771
END:VEVENT

END:VCALENDAR
