BEGIN:VCALENDAR
VERSION:2.0
PRODID:-//ChamberMaster//Event Calendar 2.0//EN
METHOD:PUBLISH
X-PUBLISHED-TTL:P3D
REFRESH-INTERVAL:P3D
CALSCALE:GREGORIAN
BEGIN:VEVENT
DTSTART:20230118T223000Z
DTEND:20230119T000000Z
X-MICROSOFT-CDO-ALLDAYEVENT:FALSE
SUMMARY:Happy Hour Connections @ Ed's Fine Wines
DESCRIPTION:We are a group of Safety Harbor Chamber members who like to connect and grow our businesses. We meet informally monthly to get to know each other and what we do.  Guests are welcome.
X-ALT-DESC;FMTTYPE=text/html:<span style="background:white\;"><span style="font-family:helvetica\,sans-serif\;">We are a group of Safety Harbor Chamber members who like to connect and grow our businesses. We meet informally&nbsp\;</span><span style="font-family: helvetica\, sans-serif\;">monthly&nbsp\;</span><span style="font-family:helvetica\,sans-serif\;">to get to know each other and what we do. &nbsp\;Guests are welcome.&nbsp\;&nbsp\;</span></span>
LOCATION:Ed's Fine Wines 2454 McMullen Booth Rd Safety Harbor
UID:e.2494.2772
SEQUENCE:3
DTSTAMP:20260425T014653Z
URL:https://business.safetyharborchamber.com/events/details/happy-hour-connections-ed-s-fine-wines-2772
END:VEVENT

END:VCALENDAR
