BEGIN:VCALENDAR
VERSION:2.0
PRODID:-//ChamberMaster//Event Calendar 2.0//EN
METHOD:PUBLISH
X-PUBLISHED-TTL:P3D
REFRESH-INTERVAL:P3D
CALSCALE:GREGORIAN
BEGIN:VEVENT
DTSTART:20230517T213000Z
DTEND:20230517T230000Z
X-MICROSOFT-CDO-ALLDAYEVENT:FALSE
SUMMARY:Happy Hour Connections @ Crooked Thumb
DESCRIPTION:We are a group of Safety Harbor Chamber members who like to connect and grow our businesses. We meet informally monthly to get to know each other and what we do.  Guests are welcome.  Cash bar!
X-ALT-DESC;FMTTYPE=text/html:<span style="background:white\;"><span style="font-family:helvetica\,sans-serif\;">We are a group of Safety Harbor Chamber members who like to connect and grow our businesses. We meet informally&nbsp\;</span><span style="font-family: helvetica\, sans-serif\;">monthly&nbsp\;</span><span style="font-family:helvetica\,sans-serif\;">to get to know each other and what we do. &nbsp\;Guests are welcome. &nbsp\;Cash bar!</span></span>
LOCATION:Crooked Thumb Brewery 10th Ave S\, Safety Harbor
UID:e.2494.2776
SEQUENCE:3
DTSTAMP:20260424T213351Z
URL:https://business.safetyharborchamber.com/events/details/happy-hour-connections-crooked-thumb-2776
END:VEVENT

END:VCALENDAR
